BEGIN:VCALENDAR
VERSION:2.0
PRODID:-//JCCM//NONSGML JCCM//EN
METHOD:PUBLISH
BEGIN:VEVENT
UID:20260420T013657-1066028967-jccm
DTSTAMP:20260420T013657
DTSTART:20161109T050000Z
SUMMARY:Ma vie autour du monde
DESCRIPTION: Dans une conf&eacute;rence inspirationnelle mettant de l'avant l'importance de vivre ses r&ecirc;ves, Lydiane St-Onge propose un &quot;voyage&quot; &agrave; travers son parcours atypique. Venez rencontrer une femme entrepreneure qui s'est lanc&eacute;e dans le vide pour vivre sa passion.
Il est possible de vous procurer un forfait d'activit&eacute;s : les 5 d&eacute;jeuners de l'ann&eacute;e pour seulement 110 $ + taxes. L'achat des forfaits est r&eacute;serv&eacute; aux membres de la JCM ; ils sont toutefois transf&eacute;rables entre coll&egrave;gues d'une m&ecirc;me entreprise.

&nbsp;
Parce qu'on sait que tu pourrais &ecirc;tre ailleurs et que tu as choisi d'&ecirc;tre avec nous, on t'a pr&eacute;par&eacute; un concours du tonnerre... Rien de moins ;-)
Le Concours de l'assiduit&eacute; :&nbsp;Comment &ccedil;a marche ?
On a pens&eacute; &agrave; garder &ccedil;a simple... On t'explique &ccedil;a en quelques lignes.
&nbsp;

Tous nos acheteurs de forfait d'activit&eacute;s (forfait matinal ou forfait global) d&eacute;butent la saison avec&nbsp;5 chances&nbsp;de gagner. Lorsqu'ils participent au d&eacute;jeuner, ils ont&nbsp;une chance suppl&eacute;mentaire&nbsp;de gagner. [Pas trop tard pour acheter ton forfait, clique&nbsp;ici]
Tous nos participants et ce, pour chaque d&eacute;jeuner, ont&nbsp;une chance&nbsp;de gagner&nbsp;(doivent &ecirc;tre pr&eacute;sents).&nbsp;
Les chances de gagner&nbsp;se cumulent&nbsp;d'un d&eacute;jeuner &agrave; l'autre.&nbsp;Plus vous &ecirc;tes pr&eacute;sents et plus vous avez de chances de gagner.

&nbsp;
Quand se d&eacute;roulent nos tirages ?
1 semaine avant le d&eacute;jeuner, on d&eacute;voile de quoi est constitu&eacute; notre cadeau.
&nbsp;
24 hres apr&egrave;s chacun des d&eacute;jeuners, on proc&egrave;de au tirage et on annonce le gagnant sur&nbsp;les Internets&nbsp;[notre page&nbsp;Facebook, pour &ecirc;tre plus pr&eacute;cis]! Le gagnant doit entrer en contact avec nous pour r&eacute;clamer son prix.
&nbsp;

1er tirage : 10 novembre 2016
2e tirage : 7 d&eacute;cembre 2016
3e tirage : 22 f&eacute;vrier 2017
4e tirage : 14 mars 2017
5e tirage (el' gros lot) : 9 mai 2017

&nbsp;
Quand se d&eacute;roulent nos d&eacute;jeuners ?
T'es peut-&ecirc;tre pas super fort en calculs et tu veux s&ucirc;rement mettre les dates* des d&eacute;jeuners &agrave; ton agenda. Les voici !
&nbsp;

Mercredi 9 novembre 2016
Mardi 6 d&eacute;cembre 2016
Mardi 21 f&eacute;vrier 2017
Mardi 14 mars 2017
Mardi 9 mai 2017

&nbsp;
*Dates sujettes &agrave; changement.
&nbsp;
Comment acheter ton forfait ou t'inscrire au 1er d&eacute;jeuner ?
Ben, c'est simple.
&nbsp;
Eventbrite :&nbsp;https://dej-lydiane.eventbrite.ca
819-372-1411 poste 0
info@jcmauricie.com

&nbsp;
Merci au partenaire majeur des d&eacute;jeuners :

&nbsp;
Merci au partenaire associ&eacute; des d&eacute;jeuners :

&nbsp;
Merci au partenaire associ&eacute; :

&nbsp;
END:VEVENT
END:VCALENDAR
