BEGIN:VCALENDAR
VERSION:2.0
PRODID:-//JCCM//NONSGML JCCM//EN
METHOD:PUBLISH
BEGIN:VEVENT
UID:20260421T160755-644581835-jccm
DTSTAMP:20260421T160755
DTSTART:20190509T040000Z
SUMMARY:Après-job Cinetic | présenté par Géomatique BLP arpenteurs-géomètres
DESCRIPTION: Soyez des n&ocirc;tres le 9 mai prochain pour un Apr&egrave;s-Job en entreprise chez Cinetic, en plein coeur du centre-ville! On profite de l'occasion pour vous d&eacute;voiler l'emplacement des nouveaux bureaux de la JCM... eh oui, on d&eacute;m&eacute;nage d&egrave;s juin!
*AVANTAGE MEMBRES*

Une 2e consommation gratuite

TARIFS

12,50 $ pour les membres
27,00 $ pour les non-membres

* Notez que des frais de gestion suppl&eacute;mentaires de 5,00 $ s'appliquent pour tout achat &agrave; la porte.
END:VEVENT
END:VCALENDAR
