BEGIN:VCALENDAR
VERSION:2.0
PRODID:-//JCCM//NONSGML JCCM//EN
METHOD:PUBLISH
BEGIN:VEVENT
UID:20260421T160818-171701966-jccm
DTSTAMP:20260421T160818
DTSTART:20190620T040000Z
SUMMARY:Après-Job AGA | présenté par Géomatique BLP arpenteurs-géomètres
DESCRIPTION: Soyez des n&ocirc;tres le 20 juin prochain pour notre Assembl&eacute;e g&eacute;n&eacute;rale annuelle. On vous accueille sur le bord du fleuve pour l'occasion!
Au programme :

D&eacute;voilement de la nouvelle personne &agrave; la pr&eacute;sidence
D&eacute;voilement du nouveau conseil d'administration 2019-2020
Bilan de l'ann&eacute;e
Cocktail estival offert par Les P&eacute;teuses de Broue
Bouch&eacute;es du Poivre Noir

*AVANTAGE MEMBRES*

Une 2e consommation gratuite

* Notez que des frais de gestion suppl&eacute;mentaires de 5,00 $ s'appliquent pour tout achat &agrave; la porte.
END:VEVENT
END:VCALENDAR
