BEGIN:VCALENDAR
VERSION:2.0
PRODID:-//JCCM//NONSGML JCCM//EN
METHOD:PUBLISH
BEGIN:VEVENT
UID:20260421T094443-420125481-jccm
DTSTAMP:20260421T094443
DTSTART:20181108T050000Z
SUMMARY:Cocktail-bénéfice 2018
DESCRIPTION: Ne manquez pas cet &eacute;v&eacute;nement incontournable de la gastronomie culinaire r&eacute;gionale ou plusieurs restaurateurs de la r&eacute;gion mettent &agrave; profit leur cuisine et leur talent pour vous &eacute;pater!
5 raisons de ne pas manquer le&nbsp;Cocktail :#1 - Vous d&eacute;lecter de la&nbsp;meilleure gastronomie&nbsp;trifluvienne#2 - Assister &agrave; un&nbsp;combat des chefs&nbsp;en direct#3 - Sortir votre plus&nbsp;beau kit#4 - D&eacute;couvrir de&nbsp;bons vins#5 - Avoir du fun avec la&nbsp;plus belle gang&nbsp;en ville
Finalement, un 100 $ bien investi :&nbsp;bouch&eacute;es, vin et bi&egrave;re &agrave; volont&eacute;&nbsp;!
Date :&nbsp;Jeudi 8 novembre 2018Heure :&nbsp;Accueil d&egrave;s 17 h 30Endroit :&nbsp;Amphith&eacute;&acirc;tre CogecoCo&ucirc;t :&nbsp;100 $ + taxes pour les membres / 150 $ + taxes pour les non-membres
Une r&eacute;servation est un engagement de votre part. Aucun remboursement ni facturation, si votre pr&eacute;sence est annul&eacute;e moins de 48 heures avant l'&eacute;v&eacute;nement.
END:VEVENT
END:VCALENDAR
