BEGIN:VCALENDAR
VERSION:2.0
PRODID:-//JCCM//NONSGML JCCM//EN
METHOD:PUBLISH
BEGIN:VEVENT
UID:20260421T094531-1750759030-jccm
DTSTAMP:20260421T094531
DTSTART:20190711T040000Z
SUMMARY:Tournoi de golf | présenté par la SPA Mauricie
DESCRIPTION: Pr&eacute;sent&eacute; par la&nbsp;SPA Mauricie, le tournoi de golf 2019 de la Jeune Chambre est la formule id&eacute;ale pour favoriser les &eacute;changes et &eacute;largir les r&eacute;seaux de contacts dans un cadre informel. Attendu &agrave; chaque ann&eacute;e en raison de son animation r&eacute;put&eacute;e, ce tournoi se veut une occasion &agrave; ne pas manquer pour les joueurs de tous les niveaux. Nous attendons plus de 140 personnes pour l'&eacute;v&eacute;nement.
TARIF (+taxes) :&nbsp;Foursome 560 $ /&nbsp;Billet individuel : 145 $
LIEU&nbsp;: Club de golf Du Moulin
HEURE&nbsp;: 12 h 30 (accueil d&egrave;s 10 h 30)
Merci au partenaire pr&eacute;sentateur :

&nbsp;
&nbsp;
END:VEVENT
END:VCALENDAR
