BEGIN:VCALENDAR
VERSION:2.0
PRODID:-//JCCM//NONSGML JCCM//EN
METHOD:PUBLISH
BEGIN:VEVENT
UID:20260421T093800-1342231437-jccm
DTSTAMP:20260421T093800
DTSTART:20190912T040000Z
SUMMARY:Lancement de saison
DESCRIPTION: La JCM vous invite &agrave; son lancement de saison, enti&egrave;rement gratuit pour les membres!
Au menu :

D&eacute;voilement de la programmation 2019-2020
Lancement des forfaits d'activit&eacute;
Nouveaut&eacute;s 2019-2020 (et oui, on vous r&eacute;serve des surprises!)

Et pour poursuivre dans le&nbsp;beat&nbsp;vacances, on vous promet une ambiance festive, des cocktails en abondance et des bouch&eacute;es toujours aussi d&eacute;licieuses!
Merci &agrave; nos partenaires de la soir&eacute;e : Cidrerie Milton, Culture 3R, Distillerie Wabasso, Les P&eacute;teuses de broue et Desjardins.
Date&nbsp;: 12 septembreHeures&nbsp;: 17h &agrave; 19hLieu&nbsp;: Salon de jeux de Trois-Rivi&egrave;resCo&ucirc;ts&nbsp;: 0$ membres / 35$ non-membres
END:VEVENT
END:VCALENDAR
