BEGIN:VCALENDAR
VERSION:2.0
PRODID:-//JCCM//NONSGML JCCM//EN
METHOD:PUBLISH
BEGIN:VEVENT
UID:20260421T093643-1343942564-jccm
DTSTAMP:20260421T093643
DTSTART:20191115T050000Z
SUMMARY:Cocktail bénéfice
DESCRIPTION: Une pr&eacute;sentation du Regroupement des CPA de la Mauricie et du Centre-du-Qu&eacute;bec

Le cocktail b&eacute;n&eacute;fice de la JCM est un &eacute;v&eacute;nement incontournable pour les membres et non-membres de la JCM.


&nbsp;


En plus de bouch&eacute;es gastronomiques inspir&eacute;s de la th&eacute;matique &laquo; bouffe de rue &raquo;, quatre zones vedettes offriront une animation courte et ludique aux participants.


&nbsp;
1- Zone bi&egrave;re : pr&eacute;sent&eacute; par la Route des Brasseurs


Des bi&egrave;res de microbrasserie pour le plaisir de vos papilles et un atelier de palette de d&eacute;gustation!


&nbsp;


2- Zone vin


Apprenez-en plus sur le vin et d&eacute;couvrez votre pastille de go&ucirc;t!


&nbsp;


3- Zone mixologie


Les P&eacute;teuses de Broue, en collaboration avec la Distillerie Wabasso et IGA des Chenaux, vous concocteront des cocktails originaux!


&nbsp;


4- Zone jeux : pr&eacute;sent&eacute; par Urgence portuaire


Une aire de jeux ludiques pour animer la fin de soir&eacute;e, tout en favorisant les &eacute;changes et le r&eacute;seautage. Une nouvelle fa&ccedil;on de gagner des prix!

Le tout, dans une ambiance de f&ecirc;te foraine chic!
Notez que tous les CPA de la Mauricie et du Centre-du-Qu&eacute;bec ont droit au tarif membre!
END:VEVENT
END:VCALENDAR
