BEGIN:VCALENDAR
VERSION:2.0
PRODID:-//JCCM//NONSGML JCCM//EN
METHOD:PUBLISH
BEGIN:VEVENT
UID:20260421T154757-1080489179-jccm
DTSTAMP:20260421T154757
DTSTART:20200131T050000Z
SUMMARY:Combat de pitch - Coupe des startup Mauricie
DESCRIPTION: PR&Eacute;SENT&Eacute; PAR : Innovation et D&eacute;veloppement &eacute;conomique Trois-Rivi&egrave;res
Dans le cadre de la Coupe des startup - arr&ecirc;t Mauricie, la JCM t'invite &agrave; assister au combat de pitch des startup participantes! En 3 affrontements, le jury d&eacute;terminera quelle &eacute;quipe repr&eacute;sentera la Mauricie &agrave; la finale nationale o&ugrave; elle se battra pour repr&eacute;senter le Qu&eacute;bec &agrave; l'&eacute;v&eacute;nement international Global Meet-up Get in the ring!
Viens rencontrer et encourager les startups de la Mauricie, tout en r&eacute;seautant avec le milieu des affaires.
Bouch&eacute;es et consommation seront offertes.
END:VEVENT
END:VCALENDAR
