BEGIN:VCALENDAR
VERSION:2.0
PRODID:-//JCCM//NONSGML JCCM//EN
METHOD:PUBLISH
BEGIN:VEVENT
UID:20260421T154823-1607668438-jccm
DTSTAMP:20260421T154823
DTSTART:20211125T050000Z
SUMMARY:Coupe Propulsons la croissance | RJCCQ
DESCRIPTION: 
END:VEVENT
END:VCALENDAR
