BEGIN:VCALENDAR
VERSION:2.0
PRODID:-//JCCM//NONSGML JCCM//EN
METHOD:PUBLISH
BEGIN:VEVENT
UID:20260421T160525-1556281444-jccm
DTSTAMP:20260421T160525
DTSTART:20160217T050000Z
SUMMARY:5@7 du Premier cycle organisé conjointement entre l’AGE UQTR et la JCM
DESCRIPTION: Le 17 f&eacute;vrier prochain aura lieu le traditionnel 5@7 du premier cycle &agrave; la Chasse-Galerie. Cette &eacute;dition-ci aura lieu sous le th&egrave;me de l'entrepreneuriat.&nbsp;
Une pr&eacute;sentation de l'AGE UQTR ainsi que de la JCM sera d'abord faite par les repr&eacute;sentants respectifs, suivies de diff&eacute;rentes pr&eacute;sentations d'entrepreneurs de la r&eacute;gion.
END:VEVENT
END:VCALENDAR
