BEGIN:VCALENDAR
VERSION:2.0
PRODID:-//JCCM//NONSGML JCCM//EN
METHOD:PUBLISH
BEGIN:VEVENT
UID:20260421T160714-1985885956-jccm
DTSTAMP:20260421T160714
DTSTART:20230126T050000Z
SUMMARY:5 à 7 Adrénaline Urbaine | Présenté par PMA Assurances
DESCRIPTION: Un Apr&egrave;s-job, c'est quoi ?
Sous forme de 5 &agrave; 7, l'Apr&egrave;s-job, r&eacute;unit nos membres et nos partenaires autour d'un verre pour r&eacute;seauter et d&eacute;compresser. Cela permet de vraiment prendre le temps de se cr&eacute;er un r&eacute;seau de contacts fort et de proximit&eacute;. C'est aussi l'occasion pour nos nouveaux membres d'apprendre qui fait partie de la Jeune Chambre de la Mauricie et d'&eacute;changer sur plusieurs sujets.
Les jeunes professionnels y retrouvent non seulement des contacts, mais &eacute;galement des opportunit&eacute;s tels que des stages et des emplois.
&nbsp;
***
On commence l'ann&eacute;e en force avec notre&nbsp;5 &agrave; 7 |&nbsp;Apr&egrave;s-Job le&nbsp;26 janvier&nbsp;au Adr&eacute;naline Urbaine ! Pr&eacute;pare ta tuque et tes mitaines puis viens&nbsp;r&eacute;seauter et d&eacute;couvrir&nbsp;ce centre sportif unique au Canada !
Pour l'occasion, Adr&eacute;naline Urbaine te propose aussi d'essayer ses nombreuses zones d'activit&eacute;s de 17h00-18h00 (pense &agrave; prendre l'option &agrave; l'achat de ton billet!).
On a h&acirc;te de vous y voir en grand nombre !&nbsp;
&nbsp;
&nbsp;
&nbsp;
END:VEVENT
END:VCALENDAR
