BEGIN:VCALENDAR
VERSION:2.0
PRODID:-//JCCM//NONSGML JCCM//EN
METHOD:PUBLISH
BEGIN:VEVENT
UID:20260421T160330-2046927225-jccm
DTSTAMP:20260421T160330
DTSTART:20151028T040000Z
SUMMARY:5@7 ENERGIE/Rouge FM - Ambiance terrifiante
DESCRIPTION: Merci aux nombreux participants et aux collaborateurs de l'&eacute;v&eacute;nement.

Partenaires majeurs de l'&eacute;v&eacute;nement :


END:VEVENT
END:VCALENDAR
