BEGIN:VCALENDAR
VERSION:2.0
PRODID:-//JCCM//NONSGML JCCM//EN
METHOD:PUBLISH
BEGIN:VEVENT
UID:20260421T094347-157700958-jccm
DTSTAMP:20260421T094347
DTSTART:20230713T040000Z
SUMMARY:Tournoi de Golf 2023
DESCRIPTION: C'est avec enthousiasme que la Jeune Chambre de la Mauricie te convie &agrave; son tournoi de golf JCM qui aura lieu le jeudi 13 juillet 2023.&nbsp;
Sois des notre au Club de golf Du Moulin pour une journ&eacute;e des plus festive.
Tu peux d&eacute;j&agrave; penser &agrave; ton foursome de r&ecirc;ve ! La journ&eacute;e se terminera par un 6 &agrave; 8 rempli de surprises, tu ne veux certainement pas manquer &ccedil;a !&nbsp;
&nbsp;
Participants du tournoi, vous avez des questions? Consultez le&nbsp;Feuillet des questions golf 2023.
&nbsp;
END:VEVENT
END:VCALENDAR
