BEGIN:VCALENDAR
VERSION:2.0
PRODID:-//JCCM//NONSGML JCCM//EN
METHOD:PUBLISH
BEGIN:VEVENT
UID:20260421T094329-2120148945-jccm
DTSTAMP:20260421T094329
DTSTART:20230921T040000Z
SUMMARY:Cocktail de la rentrée | 21 septembre 2023
DESCRIPTION: 

La rentr&eacute;e arrive &agrave; nos portes et c'est d&eacute;j&agrave; l'heure de pr&eacute;parer ton agenda pour la prochaine ann&eacute;e ! Le 21 septembre prochain, la Jeune Chambre t'invite &agrave; son cocktail de la rentr&eacute;e et son AGA ! Au menu, on te pr&eacute;sente nos r&eacute;alisations de la derni&egrave;re ann&eacute;e et notre programmation 2023-2024 ! C'est aussi le moment pour toi de d&eacute;couvrir et rencontrer nos nouveaux administrateurs !
Cette activit&eacute; est gratuite pour nos membres ! Elle est aussi ouverte aux non-membres ($).
Date : 21 septembreHeure : &agrave; partir de 17hLieu : Galerie d'art du ParcCo&ucirc;ts : gratuit pour les membres / 40$ non-membres
&nbsp;
Merci &agrave; nos partenaires : Oh Ballons Cr&eacute;ations | Culture Trois-Rivi&egrave;res |


END:VEVENT
END:VCALENDAR
