BEGIN:VCALENDAR
VERSION:2.0
PRODID:-//JCCM//NONSGML JCCM//EN
METHOD:PUBLISH
BEGIN:VEVENT
UID:20260421T094504-539239431-jccm
DTSTAMP:20260421T094504
DTSTART:20230922T040000Z
SUMMARY:Les Grands Prix de la relève d'affaires
DESCRIPTION: Depuis plus de 30 ans, le RJCCQ met de l'avant des exemples de r&eacute;ussite lors d'un gala de reconnaissance &agrave; l'&eacute;chelle provinciale s'adressant aux jeunes professionnel&middot;les, entrepreneur&middot;es et membres de son r&eacute;seau. Ce grand &eacute;v&eacute;nement festif permet de reconna&icirc;tre les accomplissements de l'ensemble des membres du RJCCQ, &agrave; savoir 43 jeunes chambres et ailes jeunesse &agrave; travers la province.
&nbsp;
END:VEVENT
END:VCALENDAR
