BEGIN:VCALENDAR
VERSION:2.0
PRODID:-//JCCM//NONSGML JCCM//EN
METHOD:PUBLISH
BEGIN:VEVENT
UID:20260421T093953-224921064-jccm
DTSTAMP:20260421T093953
DTSTART:20240503T040000Z
SUMMARY:Gala Edis 2024 | Présenté par Desjardins
DESCRIPTION: Gala Edis 2024 - Pr&eacute;sent&eacute; par Desjardins&nbsp;
La Jeune Chambre de la Mauricie est heureuse de vous convier &agrave; la 12e &eacute;dition du Gala Edis le 3 mai prochain, au Complexe Laviolette.
Pr&eacute;sent&eacute; par Desjardins Entreprises, en association avec NousTV Mauricie et Cinetic, le Gala Edis est une occasion de faire rayonner les entreprises et les jeunes personnalit&eacute;s d'ici par leurs bons coups et leur impact positif dans la communaut&eacute; d'affaires de la Mauricie. Avec la collaboration de ses multiples partenaires, la Jeune Chambre de la Mauricie vous offre une soir&eacute;e color&eacute;e avec au programme : tapis rouge, cocktail d'entr&eacute;e, ambiance festive, surprises et plus encore.&nbsp;&nbsp;
Venez c&eacute;l&eacute;brer en grand la 12e &eacute;dition du Gala Edis!&nbsp;
Date :&nbsp;Vendredi 3 mai 2024
Heure :&nbsp;&nbsp;17h00 - Pr&eacute;-gala en collaboration avec Cogeco m&eacute;dia et Cinetic |&nbsp;18h30 - Gala pr&eacute;sent&eacute; par Desjardins
Co&ucirc;t :&nbsp;&nbsp;150 $* - Billet individuel |&nbsp;580$*&nbsp; - Demi-table (4 billets) |&nbsp;1120$*&nbsp; - Table compl&egrave;te (8 billets)
*taxes + frais en sus
Les trois options comprennent le pr&eacute;-gala, le repas ainsi que la soir&eacute;e.
&nbsp;
Vous avez jusqu'au 24 avril 23h59 pour vous procurer votre billet!
&nbsp;
Pour connaitre le programme de la soir&eacute;e, cliquez ici!
&nbsp;
La Jeune Chambre de la Mauricie tient &agrave; remercier ses pr&eacute;cieux partenaires qui contribuent &agrave; soutenir et encourager la jeune communaut&eacute; d'affaires et entrepreneurs de la Mauricie, dans le cadre du Gala Edis 2024!&nbsp;&nbsp;
Desjardins | NousTV | Cinetic | Ville de Trois-Rivi&egrave;res | Port de Trois-Rivi&egrave;res | Services Qu&eacute;bec | Regroupement des CPA de la Mauricie - Centre-du-Qu&eacute;bec | Innovation et D&eacute;veloppement &eacute;conomique Trois-Rivi&egrave;res | MNP | Hydro-Qu&eacute;bec | PMA Assurances | Soluce | Universit&eacute; du Qu&eacute;bec &agrave; Trois-Rivi&egrave;res | &Eacute;cole de Gestion UQTR | Cogeco 106,9 et 100,1 | Complexe Laviolette | Audi-C
END:VEVENT
END:VCALENDAR
