BEGIN:VCALENDAR
VERSION:2.0
PRODID:-//JCCM//NONSGML JCCM//EN
METHOD:PUBLISH
BEGIN:VEVENT
UID:20260421T094337-1707094435-jccm
DTSTAMP:20260421T094337
DTSTART:20240711T040000Z
SUMMARY:Tournoi de golf 2024 | Présenté par Groupe Sutton - alliance
DESCRIPTION: 
Participant.e du tournoi, tu as des questions? Consulte le&nbsp;Feuillet des questions!____
&nbsp;
Tournoi de golf 2024, pr&eacute;sent&eacute; par Groupe Sutton - alliance.
Une fois de plus cette ann&eacute;e, la Jeune Chambre de la Mauricie tiendra son tournoi de golf annuel. En collaboration avec Subaru Trois-Rivi&egrave;res, jeudi le 11 juillet prochain,&nbsp;au Club de golf Du Moulin, c'est avec grand plaisir que nous recevrons membres et partenaires de la Jeune Chambre dans le cadre de cet &eacute;v&eacute;nement majeur. C'est plus de 200 participants que nous accueillons pendant l'ensemble de la journ&eacute;e qui d&eacute;butera par le tournoi (formule 18 trous) et se terminera par une soir&eacute;e, sous forme de 6 &agrave; 8.
Tu peux d&eacute;j&agrave; penser &agrave; ton foursome de r&ecirc;ve ! La journ&eacute;e se terminera par un 6 &agrave; 8 rempli de surprises, tu ne veux certainement pas manquer &ccedil;a !&nbsp;
L'an dernier, ce n'est pas le mauvais temps et l'alerte tornade qui ont rebut&eacute;s nos joueurs! Tous les billets se sont vendus en 4 jours, une ann&eacute;e record pour la Jeune Chambre. C'est sans aucun doute l'&eacute;v&eacute;nement que tous ont h&acirc;te de participer.
Pr&eacute;vente r&eacute;serv&eacute;e aux membres de la JCM jusqu'au vendredi 24 mai midi (v&eacute;rifier vos courriels!). Billetterie sera ouverte &agrave; tous le 24 mai midi.
&nbsp;Pour &ecirc;tre partenaire de l'&eacute;v&eacute;nement, contacte-nous par courriel!
&nbsp;
Merci &agrave; nos partenaires : Groupe sutton - alliance | Subaru Trois-Rivi&egrave;res | Cinetic
END:VEVENT
END:VCALENDAR
