BEGIN:VCALENDAR
VERSION:2.0
PRODID:-//JCCM//NONSGML JCCM//EN
METHOD:PUBLISH
BEGIN:VEVENT
UID:20260421T155259-197924804-jccm
DTSTAMP:20260421T155259
DTSTART:20250327T040000Z
SUMMARY:Souper Table Tournante
DESCRIPTION: La Jeune Chambre de la Mauricie vous invite &agrave; son souper-b&eacute;n&eacute;fice, le 27&nbsp;mars 2025 au Rouge Vin.&nbsp;
*Cet &eacute;v&eacute;nement sera une occasion unique de r&eacute;seautage avec vos Gouverneurs, tout en d&eacute;gustant un souper gastronomique avec accord mets et vins.
Au fil de la soir&eacute;e, vous pourrez d&eacute;couvrir nos nombreux prix ainsi que les entreprises partenaires qui soutiennent l'&eacute;v&eacute;nement &agrave; travers notre encan silencieux et diverses collaborations.
L'objectif ? Soutenir la mission de la JCM et offrir &agrave; nos membres une programmation vari&eacute;e, dynamique et enrichissante tout au long de l'ann&eacute;e.
&nbsp;
END:VEVENT
END:VCALENDAR
