BEGIN:VCALENDAR
VERSION:2.0
PRODID:-//JCCM//NONSGML JCCM//EN
METHOD:PUBLISH
BEGIN:VEVENT
UID:20260421T090106-614583234-jccm
DTSTAMP:20260421T090106
DTSTART:20260515T040000Z
SUMMARY:Gala Edis 2026
DESCRIPTION: 











Gala Edis 2026&nbsp;- Pr&eacute;sent&eacute; par Desjardins Entreprises
&nbsp;
La Jeune Chambre de la Mauricie est heureuse de vous convier &agrave; la 14e &eacute;dition du Gala Edis le 15&nbsp;mai 2026,
au Complexe Laviolette. Pr&eacute;sent&eacute; par Desjardins Entreprises, en association avec NousTV Mauricie et Cinetic,
le Gala Edis est une occasion de faire rayonner les entreprises et les jeunes personnalit&eacute;s d'ici par leurs bons
coups et leur impact positif dans la communaut&eacute; d'affaires de la Mauricie. Avec la collaboration de ses multiples
partenaires, la Jeune Chambre de la Mauricie vous offre une soir&eacute;e color&eacute;e avec au programme :
tapis rouge, cocktail d'entr&eacute;e, ambiance festive, surprises et plus encore.&nbsp;&nbsp;
&nbsp;
Venez c&eacute;l&eacute;brer en grand la 14e &eacute;dition du Gala Edis !&nbsp;&nbsp;
&nbsp;
Date :&nbsp;Vendredi 15&nbsp;mai 2026
Lieu :&nbsp;Complexe Laviolette | 2203 Boul. des Forges, Trois-Rivi&egrave;res
Heure :

17h00 - Pr&eacute;-gala en collaboration avec Cogeco, Cinetic et Audi-c !&nbsp;Cocktail d'arriv&eacute;e et tapis avec notre partenaire Cogeco Connexion.
18h30 - Gala pr&eacute;sent&eacute; par Desjardins Entreprises

Co&ucirc;t :&nbsp;

160 $* - Billet individuel
600$*&nbsp;- Demi-table (4 billets)
1 160$*&nbsp;- Table compl&egrave;te (8 billets)

*taxes + frais en sus
Les trois options comprennent le pr&eacute;-gala, le repas ainsi que la soir&eacute;e.
Vous avez jusqu'au 08 mai&nbsp;23h59 pour vous procurer votre billet !&nbsp;
La Jeune Chambre de la Mauricie tient &agrave; remercier ses pr&eacute;cieux partenaires qui contribuent &agrave; soutenir et encourager la jeune communaut&eacute; d'affaires et entrepreneurs de la Mauricie, dans le cadre du Gala Edis 2026!&nbsp;&nbsp;
Desjardins Entreprises | Ville de Trois-Rivi&egrave;res |&nbsp;Minist&egrave;res de l'emploi et de la solidarit&eacute; sociale | Innovation et D&eacute;veloppement &eacute;conomique Trois-Rivi&egrave;res | Port de Trois-Rivi&egrave;res | MNP | UQTR - &Eacute;cole de gestion&nbsp;|&nbsp;Ellipse | Ordre des CPA de la Mauricie | Soluce | &Eacute;nercycle | Cogeco 106,9 et 100,1 |&nbsp;Cinetic | Audi-C | NousTV |&nbsp;Complexe Laviolette&nbsp;| La Zone Entrepreneuriale | Belitec | BLS-&Eacute;v&egrave;nements | Il &eacute;tait une fleur | Emine photographie | D&eacute;put&eacute; Simon Allaire | D&eacute;put&eacute; Jean Boulet | D&eacute;put&eacute; Fran&ccedil;ois-Philippe Champagne | D&eacute;put&eacute; Sonia Lebel | D&eacute;put&eacute; Marie-Louise Tardif | LTML | Mallette | G&eacute;omatique BLP | Air Canada


&nbsp;
&nbsp;










&nbsp;

END:VEVENT
END:VCALENDAR
