BEGIN:VCALENDAR
VERSION:2.0
PRODID:-//JCCM//NONSGML JCCM//EN
METHOD:PUBLISH
BEGIN:VEVENT
UID:20260421T093730-1825503863-jccm
DTSTAMP:20260421T093730
DTSTART:20170427T040000Z
SUMMARY:Gala Edis 2017, présenté par Desjardins
DESCRIPTION: La Jeune Chambre de la Mauricie vous convie &agrave; la 5e&nbsp;&eacute;dition du Gala Edis qui aura lieu le jeudi 27 avril 2017 au Complexe Laviolette de Trois-Rivi&egrave;res.
&nbsp;
Pr&eacute;sent&eacute; par Desjardins Entreprises, et en association avec Cogeco et CogecoTV, le Gala Edis 2017 se veut une occasion pour les entreprises et les jeunes personnalit&eacute;s d'ici de d&eacute;montrer &agrave; la communaut&eacute; d'affaires de la Mauricie leurs succ&egrave;s.
&nbsp;
14 prix seront remis lors de cette soir&eacute;e dans autant de cat&eacute;gorie.
&nbsp;
*Tenue de soir&eacute;e sugg&eacute;r&eacute;e
&nbsp;
Partenaire majeur de l'&eacute;v&eacute;nement 2017 :
&nbsp;
Partenaire associ&eacute; :

Une r&eacute;servation est un engagement de votre part. Aucun remboursement ni facturation, si votre pr&eacute;sence est annul&eacute;e moins que 72 heures avant l'&eacute;v&eacute;nement.
END:VEVENT
END:VCALENDAR
