BEGIN:VCALENDAR
VERSION:2.0
PRODID:-//JCCM//NONSGML JCCM//EN
METHOD:PUBLISH
BEGIN:VEVENT
UID:20260421T094207-1127266802-jccm
DTSTAMP:20260421T094207
DTSTART:20170916T040000Z
SUMMARY:La Descente II : Challenge de boîtes à savon 2017
DESCRIPTION: Pour la 2e &eacute;dition de la Descente, on vous pr&eacute;pare tout un d&eacute;fi interentreprises.
&nbsp;
La Descente... c'est quoi ?
En collaboration avec&nbsp;Acolyte, et sous la pr&eacute;sidence d'honneur de Louis- Philippe et Jean-Fran&ccedil;ois Dumoulin, La Descente est la meilleure fa&ccedil;on de fournir un but rassembleur &agrave; votre &eacute;quipe de travail gr&acirc;ce &agrave; une activit&eacute; appelant autant la cr&eacute;ativit&eacute; que l'ing&eacute;niosit&eacute;.
Concr&egrave;tement, on parle d'une journ&eacute;e de comp&eacute;tition o&ugrave; des &eacute;quipes form&eacute;es d'employ&eacute;s d'organisations de la r&eacute;gion s'affronteront lors de descentes en bo&icirc;tes &agrave; savon. Il s'agit d'une activit&eacute; de&nbsp;Team building&nbsp;permettant aux &eacute;quipes de travail de cr&eacute;er des liens de confiance dans un contexte o&ugrave; l'entraide, la cr&eacute;ativit&eacute; et l'ing&eacute;niosit&eacute; sont mis de l'avant pendant la construction de la bo&icirc;te &agrave; savon. Le jour de l'&eacute;v&egrave;nement, une ambiance festive offrira une opportunit&eacute; de rencontre diff&eacute;rente pour les employ&eacute;s d'une m&ecirc;me organisation.
&nbsp;
Une partie des sommes amass&eacute;es sera remise &agrave; la Fondation qu&eacute;becoise du cancer.
&nbsp;
10 h : Arriv&eacute;e des &eacute;quipes
11 h : Tailgate offert par IGA Paquette
12 h 45 : D&eacute;but des courses
16 h : Fin des courses
16 h 30 : Remise des m&eacute;dailles
&nbsp;
Tarif entreprise
&agrave; partir du 1er juin 2017

MEMBRE = 525 $ (taxes incluses)
NON-MEMBRE = 575 $ (taxes incluses) + un membership annuel offert

&nbsp;

La consolidation d'&eacute;quipe
Sachant que les organisations doivent constamment faire face &agrave; de nouveaux d&eacute;fis, il est primordial de pouvoir compter sur une &eacute;quipe forte et coh&eacute;sive. Cette activit&eacute; vous propose de :
&nbsp;

Cr&eacute;er un lien de confiance entre les membres de votre &eacute;quipe de travail
Mobiliser votre &eacute;quipe
Favoriser l'ouverture au changement
D&eacute;velopper un sentiment d'appartenance &agrave; l'organisation
Augmenter la r&eacute;tention du personnel
Pr&eacute;venir les conflits relationnels

&nbsp;
La consolidation d'&eacute;quipe&hellip; pourquoi ?

Pour int&eacute;grer de nouveaux employ&eacute;s &agrave; une &eacute;quipe d&eacute;j&agrave; form&eacute;e
Pour relever de nouveaux d&eacute;fis
Pour am&eacute;liorer la communication entre les employ&eacute;s
Pour briser la routine et motiver vos troupes
Pour former une nouvelle &eacute;quipe de travail

&nbsp;
La construction
L'entreprise doit construire sa boite &agrave; savon selon des bar&egrave;mes de s&eacute;curit&eacute; fournis par la Jeune Chambre de la Mauricie. Autant d'employ&eacute;s que d&eacute;sir&eacute; peuvent &ecirc;tre impliqu&eacute;s dans la construction du bolide, et ce d&egrave;s votre inscription.
&nbsp;
Prendre connaissance des r&egrave;glements en cliquant ici.
&nbsp;
Les crit&egrave;res pour gagner
Les &eacute;quipes seront &eacute;valu&eacute;es selon trois crit&egrave;res : la performance au chronom&egrave;tre et au 1 contre 1, l'originalit&eacute; de la conception du bolide et l'esprit d'&eacute;quipe de tous les membres de l'entreprise pr&eacute;sents, ces derniers devront &ecirc;tre clairement identifiables &agrave; l'entreprise. Le jour de la Descente, cinq employ&eacute;s, dont un pilote, seront d&eacute;sign&eacute;s comme participants. Chaque &eacute;quipe fera une descente seule, puis des descentes en 1 contre 1 jusqu'&agrave; la ronde finale.
&nbsp;
Curieux ? Consultez les photos de l'&eacute;dition 2016.
END:VEVENT
END:VCALENDAR
