BEGIN:VCALENDAR
VERSION:2.0
PRODID:-//JCCM//NONSGML JCCM//EN
METHOD:PUBLISH
BEGIN:VEVENT
UID:20260421T094019-1909719353-jccm
DTSTAMP:20260421T094019
DTSTART:20171109T050000Z
SUMMARY:Cocktail JCM - Un coup fumant
DESCRIPTION: Ne manquez pas cet &eacute;v&eacute;nement incontournable de la gastronomie culinaire r&eacute;gionale ou&nbsp;plusieurs restaurateurs de la r&eacute;gion mettent &agrave; profit leur cuisine et leur talent pour vous &eacute;pater !  - 2 juges invit&eacute;s :&nbsp;F&eacute;lip&eacute; St-Laurent de Ils en fument du bon et Marc-Andr&eacute; Royal du restaurant Le St-Urbain. - 13 restaurateurs de la r&eacute;gion - 1&nbsp;combat des chefs en direct - 1 coup de c&oelig;ur du public  5 raisons de ne pas manquer le Cocktail&nbsp;:  #1 - Vous d&eacute;lecter&nbsp;de la meilleure gastronomie trifluvienne #2 - Assister &agrave; un combat des chefs en direct #3 - Sortir votre&nbsp;plus beau kit #4 - D&eacute;couvrir de&nbsp;bons vins #5 - Avoir du fun avec la plus belle gang en ville
&nbsp;
Finalement, un 100 $ bien investi : bouch&eacute;es et vin &agrave; volont&eacute; !
&nbsp;
Nos restaurateurs :
Le Buck : Pub gastronomiqueBanh ThaiLe Castel 1954Les ContrebandiersJack SaloonKiNipi &agrave; la boucheLa Maison de d&eacute;baucheLe Poivre noirLe Pot Papilles &amp; CocktailsLe Rouge vinLe Temps d'une pinteLe PanetierLa Chocolaterie Samson
&nbsp;
&nbsp;
END:VEVENT
END:VCALENDAR
