BEGIN:VCALENDAR
VERSION:2.0
PRODID:-//JCCM//NONSGML JCCM//EN
METHOD:PUBLISH
BEGIN:VEVENT
UID:20260421T160439-135905442-jccm
DTSTAMP:20260421T160439
DTSTART:20180125T050000Z
SUMMARY:L'après-job - Doucet + Turcotte Architectes
DESCRIPTION: ***COMPLET - PAS DE BILLETS EN VENTE &Agrave; LA PORTE***
On vous accueille le 25 janvier prochain chez Doucet + Turcotte Architectes pour notre 1er 5 &agrave; 7 de l'ann&eacute;e 2018. C'est l'occasion id&eacute;ale pour :
Cr&eacute;er ta voie
G&eacute;n&eacute;rer tes opportunit&eacute;s
&amp;
D&eacute;velopper tes forces
&nbsp;
De plus, nous aurons comme invit&eacute; d'honneur Madame Dani&egrave;le Henkel. Entrepreneure, visionnaire et ambassadrice du programme Entreprendre en r&eacute;gion. Elle fera une conf&eacute;rence de 30 minutes sur l'importance d'entreprendre en r&eacute;gion.
&nbsp;
EN PR&Eacute;INSCRIPTION :

12,50 $ pour les membres
17,50 pour les non-membre

&nbsp;
PLEIN TARIF APR&Egrave;S LE 23 JANVIER 2018 &Agrave; 12H (MIDI) : 

22,50 $ pour les membres
27,50$ pour les non-membre

&nbsp;
Places limit&eacute;es. Faites vite !
END:VEVENT
END:VCALENDAR
