BEGIN:VCALENDAR
VERSION:2.0
PRODID:-//JCCM//NONSGML JCCM//EN
METHOD:PUBLISH
BEGIN:VEVENT
UID:20260421T094039-819139838-jccm
DTSTAMP:20260421T094039
DTSTART:20180915T040000Z
SUMMARY:La Descente III : Challenge de boîtes à savon
DESCRIPTION: En collaboration avec&nbsp;Acolyte, la Descente est la meilleure fa&ccedil;on de fournir un but rassembleur &agrave; son &eacute;quipe de travail en mettant de l'avant une activit&eacute; appelant autant la cr&eacute;ativit&eacute; que l'ing&eacute;niosit&eacute; des jeunes gens d'affaires.
&nbsp;
Il s'agit d'une initiative pour valoriser le&nbsp;team building&nbsp;dans vos &eacute;quipes de travail et pour les mobiliser&nbsp;autour d'un projet commun, cr&eacute;atif et ing&eacute;nieux. On veut vous amener &agrave; vous d&eacute;passer et &agrave; tisser des liens de confiance dans un contexte diff&eacute;rent qui am&egrave;ne son lot de d&eacute;fis.
&nbsp;
Quoi ?&nbsp;Une course de bo&icirc;tes &agrave; savon interentreprises
Pour qui ?&nbsp;Les gens d'affaires de la Mauricie
Quand ?&nbsp;Samedi 15 septembre 2018
O&ugrave; ?&nbsp;Dans la c&ocirc;te du P&egrave;re-Marquette Trois-Rivi&egrave;res
&nbsp;
Pour plus d'informations, vous pouvez communiquer avec nous en tout temps via le&nbsp;info@jcmauricie.com.
&nbsp;
Tarif entreprise de pr&eacute;inscription valide jusqu'au 20 juillet 2018 :MEMBRE = 450 $ (taxes incluses)NON-MEMBRE = 500 $ (taxes incluses)
&nbsp;
Tarif entreprise &agrave; partir du 21 juillet 2018 :MEMBRE = 500 $ (taxes incluses)NON-MEMBRE = 550 $ (taxes incluses)
END:VEVENT
END:VCALENDAR
